BEGIN:VCALENDAR
VERSION:2.0
PRODID:Events Booking
BEGIN:VEVENT
UID:69ea68bb7a3f7
SUMMARY:Mentor Coaching - PCC Basic
DESCRIPTION:
DTSTART:21231231T183000Z
DTEND:22231231T183000Z
DTSTAMP:20240130T012629Z
ORGANIZER;CN=Anil Dagia:MAILTO:info@anildagia.com
END:VEVENT
END:VCALENDAR