BEGIN:VCALENDAR
VERSION:2.0
PRODID:Events Booking
BEGIN:VEVENT
UID:69e8d7f48335b
SUMMARY:Anil Dagia's Webinar Offer 13-May-2021
DESCRIPTION:
DTSTART:20210705T153000Z
DTEND:20211015T182500Z
DTSTAMP:20260422T141516Z
ORGANIZER;CN=Anil Dagia:MAILTO:info@anildagia.com
END:VEVENT
END:VCALENDAR