BEGIN:VCALENDAR
VERSION:2.0
PRODID:Events Booking
BEGIN:VEVENT
UID:69e9d7c55f00f
SUMMARY:Anil Dagia's ICF + NLP Practitioner Dual Certification Training - O
 ct 2016\, Mumbai
DESCRIPTION:
LOCATION:Mumbai\, Maharashtra\, India
DTSTART:20161010T033000Z
DTEND:20161016T123000Z
DTSTAMP:20260423T082645Z
ORGANIZER;CN=Anil Dagia:MAILTO:info@anildagia.com
GEO:19.075984;72.877656
X-APPLE-STRUCTURED-LOCATION;VALUE=URI;X-ADDRESS=Mumbai\, Maharashtra\, Indi
 a;X-APPLE-RADIUS=72;X-TITLE=Mumbai:19.075984;72.877656
END:VEVENT
END:VCALENDAR