BEGIN:VCALENDAR
VERSION:2.0
PRODID:Events Booking
BEGIN:VEVENT
UID:69e6860407351
SUMMARY:Anil Dagia's ICF + NLP Practitioner Dual Certification Training - N
 ov 2019\, Pune
DESCRIPTION:
LOCATION:Pune\, Maharashtra\, India
DTSTART:20191120T033000Z
DTEND:20191124T123000Z
DTSTAMP:20260420T200108Z
ORGANIZER;CN=Anil Dagia:MAILTO:info@anildagia.com
GEO:18.52043;73.856744
X-APPLE-STRUCTURED-LOCATION;VALUE=URI;X-ADDRESS=Pune\, Maharashtra\, India;
 X-APPLE-RADIUS=72;X-TITLE=Pune:18.52043;73.856744
END:VEVENT
END:VCALENDAR